BEGIN:VCALENDAR
VERSION:2.0
PRODID:-//www.ketchikanarts.org//NONSGML kigkonsult.se iCalcreator 2.30.10/
 /
CALSCALE:GREGORIAN
METHOD:PUBLISH
UID:e749a859-a0dd-459c-9c0e-15e44bdad279
X-WR-CALDESC:All are welcome to perform at this open mic! Hosted by Joe Wil
 liams with Tony Johnson. Under 21 must bring parent or legal guardian\n$3 
 at the door
X-WR-RELCALID:72e16b625a99e4f1a1114b60cff9abee
X-WR-TIMEZONE:America/Anchorage
BEGIN:VTIMEZONE
TZID:America/Anchorage
BEGIN:STANDARD
TZNAME:AKST
DTSTART:20191103T020000
TZOFFSETFROM:-0800
TZOFFSETTO:-0900
RDATE:20201101T020000
END:STANDARD
BEGIN:DAYLIGHT
TZNAME:AKDT
DTSTART:20190310T020000
TZOFFSETFROM:-0900
TZOFFSETTO:-0800
RDATE:20200308T020000
RDATE:20210314T020000
END:DAYLIGHT
END:VTIMEZONE
BEGIN:VEVENT
UID:abd0fb63-bf1b-4826-b5a7-51e0bca93720
DTSTAMP:20260422T080918Z
DESCRIPTION:All are welcome to perform at this open mic! Hosted by Joe Will
 iams with Tony Johnson. Under 21 must bring parent or legal guardian\n$3 a
 t the door
DTSTART;TZID=America/Anchorage:20191110T180000
DTEND;TZID=America/Anchorage:20191110T200000
LOCATION:Creek Street Cabaret
SUMMARY:Sunday Open Mic Night with Joe
END:VEVENT
END:VCALENDAR
