BEGIN:VCALENDAR
VERSION:2.0
PRODID:-//www.ketchikanarts.org//NONSGML kigkonsult.se iCalcreator 2.30.10/
 /
CALSCALE:GREGORIAN
METHOD:PUBLISH
UID:9b81da03-e9fa-4280-ba49-49dd864185ad
X-WR-CALDESC:First City Players production of The Secret Garden an enchanti
 ng classic of children's literature is re-imagined in a brilliant stage mu
 sical. The Secret Garden is a tale of forgiveness and renewal based on the
  beloved novel by Frances Hodgson Burnett. The Broadway production won thr
 ee Tony Awards.\n\nJoin FCP for the compelling story of 11-year-old Mary L
 ennox\; orphaned in colonial India\, she returns to Yorkshire to live with
  her embittered uncle and his invalid son. Among many wonders of the estat
 e is a magic garden of haunting melodies and 'Dreamers' -- spirits who gui
 de Mary in a new life.\n\nDirected by Elizabeth Nelson\nChoreography by Cl
 are Bennett\nMusical Direction by Deidra Nuss\n\nDoors open at 2pm\, perfo
 rmance begins at 2:30pm\nTickets:\n$26 Adults/$20 Seniors\, Military\, You
 th/$70 Family Pack
X-WR-RELCALID:d9a986acbaad568ed10a4cf6449bb77b
X-WR-TIMEZONE:America/Anchorage
BEGIN:VTIMEZONE
TZID:America/Anchorage
BEGIN:STANDARD
TZNAME:AKST
DTSTART:20191103T020000
TZOFFSETFROM:-0800
TZOFFSETTO:-0900
RDATE:20201101T020000
END:STANDARD
BEGIN:DAYLIGHT
TZNAME:AKDT
DTSTART:20190310T020000
TZOFFSETFROM:-0900
TZOFFSETTO:-0800
RDATE:20200308T020000
RDATE:20210314T020000
END:DAYLIGHT
END:VTIMEZONE
BEGIN:VEVENT
UID:e77031f2-f5ce-4d4d-b9bc-03ad78ece906
DTSTAMP:20260422T081057Z
DESCRIPTION:First City Players production of The Secret Garden an enchantin
 g classic of children's literature is re-imagined in a brilliant stage mus
 ical. The Secret Garden is a tale of forgiveness and renewal based on the 
 beloved novel by Frances Hodgson Burnett. The Broadway production won thre
 e Tony Awards.\n\nJoin FCP for the compelling story of 11-year-old Mary Le
 nnox\; orphaned in colonial India\, she returns to Yorkshire to live with 
 her embittered uncle and his invalid son. Among many wonders of the estate
  is a magic garden of haunting melodies and 'Dreamers' -- spirits who guid
 e Mary in a new life.\n\nDirected by Elizabeth Nelson\nChoreography by Cla
 re Bennett\nMusical Direction by Deidra Nuss\n\nDoors open at 2pm\, perfor
 mance begins at 2:30pm\nTickets:\n$26 Adults/$20 Seniors\, Military\, Yout
 h/$70 Family Pack
DTSTART;TZID=America/Anchorage:20191110T143000
DTEND;TZID=America/Anchorage:20191110T163000
LOCATION:Kayhi Auditorium
SUMMARY:FCP - The Secret Garden
END:VEVENT
END:VCALENDAR
