BEGIN:VCALENDAR
VERSION:2.0
PRODID:-//www.ketchikanarts.org//NONSGML kigkonsult.se iCalcreator 2.30.10/
 /
CALSCALE:GREGORIAN
METHOD:PUBLISH
UID:ac8fe6e7-9b5b-47d5-8a42-d7d5150ec817
X-WR-CALDESC:First City Players production of The Secret Garden. An enchant
 ing classic of children's literature is reimagined in a brilliant stage mu
 sical. The Secret Garden is a tale of forgiveness and renewal based on the
  beloved novel by Frances Hodgson Burnett. The Broadway production won thr
 ee Tony Awards.\n\nJoin us for the compelling story of 11-year-old Mary Le
 nnox\; orphaned in colonial India\, she returns to Yorkshire to live with 
 her embittered uncle and his invalid son. Among many wonders of the estate
  is a magic garden of haunting melodies and 'Dreamers' -- spirits who guid
 e Mary in a new life.\n\nDirected by Elizabeth Nelson\nChoreography by Cla
 re Bennett\nMusical Direction by Deidra Nuss\n\nDoors open at 7pm\, perfor
 mance begins at 7:30pm\nTickets:\n$26 Adults/$20 Seniors\, Military\, Yout
 h/$70 Family Pack
X-WR-RELCALID:4287df5d9fdc0e50c12dbd7b9114e510
X-WR-TIMEZONE:America/Anchorage
BEGIN:VTIMEZONE
TZID:America/Anchorage
BEGIN:STANDARD
TZNAME:AKST
DTSTART:20191103T020000
TZOFFSETFROM:-0800
TZOFFSETTO:-0900
RDATE:20201101T020000
END:STANDARD
BEGIN:DAYLIGHT
TZNAME:AKDT
DTSTART:20190310T020000
TZOFFSETFROM:-0900
TZOFFSETTO:-0800
RDATE:20200308T020000
RDATE:20210314T020000
END:DAYLIGHT
END:VTIMEZONE
BEGIN:VEVENT
UID:f6a2145e-8d6b-43f2-9dba-e49ddfd98393
DTSTAMP:20260422T081804Z
DESCRIPTION:First City Players production of The Secret Garden. An enchanti
 ng classic of children's literature is reimagined in a brilliant stage mus
 ical. The Secret Garden is a tale of forgiveness and renewal based on the 
 beloved novel by Frances Hodgson Burnett. The Broadway production won thre
 e Tony Awards.\n\nJoin us for the compelling story of 11-year-old Mary Len
 nox\; orphaned in colonial India\, she returns to Yorkshire to live with h
 er embittered uncle and his invalid son. Among many wonders of the estate 
 is a magic garden of haunting melodies and 'Dreamers' -- spirits who guide
  Mary in a new life.\n\nDirected by Elizabeth Nelson\nChoreography by Clar
 e Bennett\nMusical Direction by Deidra Nuss\n\nDoors open at 7pm\, perform
 ance begins at 7:30pm\nTickets:\n$26 Adults/$20 Seniors\, Military\, Youth
 /$70 Family Pack
DTSTART;TZID=America/Anchorage:20191108T193000
DTEND;TZID=America/Anchorage:20191108T213000
LOCATION:Kayhi Auditorium
SUMMARY:FCP - The Secret Garden
END:VEVENT
END:VCALENDAR
