BEGIN:VCALENDAR
VERSION:2.0
PRODID:-//www.ketchikanarts.org//NONSGML kigkonsult.se iCalcreator 2.30.10/
 /
CALSCALE:GREGORIAN
METHOD:PUBLISH
UID:87acae6a-e7af-4012-ad37-d9e65b1a922b
X-WR-CALDESC:All dances are taught\, live music by the Free Radicals. \n$5 
 at the door
X-WR-RELCALID:843aa6521f621f44ed54e06412716d1e
X-WR-TIMEZONE:America/Anchorage
BEGIN:VTIMEZONE
TZID:America/Anchorage
BEGIN:STANDARD
TZNAME:AKST
DTSTART:20191103T020000
TZOFFSETFROM:-0800
TZOFFSETTO:-0900
RDATE:20201101T020000
END:STANDARD
BEGIN:DAYLIGHT
TZNAME:AKDT
DTSTART:20190310T020000
TZOFFSETFROM:-0900
TZOFFSETTO:-0800
RDATE:20200308T020000
RDATE:20210314T020000
END:DAYLIGHT
END:VTIMEZONE
BEGIN:VEVENT
UID:c7bfbe3a-e749-47e5-b793-b72a383d099b
DTSTAMP:20260422T080634Z
DESCRIPTION:All dances are taught\, live music by the Free Radicals. \n$5 a
 t the door
DTSTART;TZID=America/Anchorage:20191108T190000
DTEND;TZID=America/Anchorage:20191108T210000
LOCATION:Creek Street Cabaret
SUMMARY:Alaska Square Dance
END:VEVENT
END:VCALENDAR
