BEGIN:VCALENDAR
VERSION:2.0
PRODID:-//www.ketchikanarts.org//NONSGML kigkonsult.se iCalcreator 2.30.10/
 /
CALSCALE:GREGORIAN
METHOD:PUBLISH
UID:1e7aee48-806a-4b9b-b839-b0d191acd90b
X-WR-CALDESC:First City Players production of The Secret Garden. An enchant
 ing classic of children's literature is reimagined in a brilliant stage mu
 sical. The Secret Garden is a tale of forgiveness and renewal based on the
  beloved novel by Frances Hodgson Burnett. The Broadway production won thr
 ee Tony Awards.\n\nJoin us for the compelling story of 11-year-old Mary Le
 nnox\; orphaned in colonial India\, she returns to Yorkshire to live with 
 her embittered uncle and his invalid son. Among many wonders of the estate
  is a magic garden of haunting melodies and 'Dreamers' -- spirits who guid
 e Mary in a new life.\n\nDirected by Elizabeth Nelson. Choreography by Cla
 re Bennett. Musical Direction by Deidra Nuss\n\nPay-What-You-can performan
 ce on Thursday night.
X-WR-RELCALID:e1eaaec6d71e1ad05a87641cf67e0bb3
X-WR-TIMEZONE:America/Anchorage
BEGIN:VTIMEZONE
TZID:America/Anchorage
BEGIN:STANDARD
TZNAME:AKST
DTSTART:20191103T020000
TZOFFSETFROM:-0800
TZOFFSETTO:-0900
RDATE:20201101T020000
END:STANDARD
BEGIN:DAYLIGHT
TZNAME:AKDT
DTSTART:20190310T020000
TZOFFSETFROM:-0900
TZOFFSETTO:-0800
RDATE:20200308T020000
RDATE:20210314T020000
END:DAYLIGHT
END:VTIMEZONE
BEGIN:VEVENT
UID:99f09236-7661-4b3b-8ec7-51179b6e642d
DTSTAMP:20260422T080954Z
DESCRIPTION:First City Players production of The Secret Garden. An enchanti
 ng classic of children's literature is reimagined in a brilliant stage mus
 ical. The Secret Garden is a tale of forgiveness and renewal based on the 
 beloved novel by Frances Hodgson Burnett. The Broadway production won thre
 e Tony Awards.\n\nJoin us for the compelling story of 11-year-old Mary Len
 nox\; orphaned in colonial India\, she returns to Yorkshire to live with h
 er embittered uncle and his invalid son. Among many wonders of the estate 
 is a magic garden of haunting melodies and 'Dreamers' -- spirits who guide
  Mary in a new life.\n\nDirected by Elizabeth Nelson. Choreography by Clar
 e Bennett. Musical Direction by Deidra Nuss\n\nPay-What-You-can performanc
 e on Thursday night.
DTSTART;TZID=America/Anchorage:20191107T193000
DTEND;TZID=America/Anchorage:20191107T213000
LOCATION:Kayhi Auditorium
SUMMARY:FCP - The Secret Garden
END:VEVENT
END:VCALENDAR
