BEGIN:VCALENDAR
VERSION:2.0
PRODID:-//www.ketchikanarts.org//NONSGML kigkonsult.se iCalcreator 2.30.10/
 /
CALSCALE:GREGORIAN
METHOD:PUBLISH
UID:6491a0d4-8010-45d4-87d6-95b4e450b65e
X-WR-CALDESC:Learn tips and tricks from seasoned professional  Julie Lekwau
 wa
X-WR-RELCALID:5ceaa5d7fd8dd3f5049bda858c354a64
X-WR-TIMEZONE:America/Anchorage
BEGIN:VTIMEZONE
TZID:America/Anchorage
BEGIN:STANDARD
TZNAME:AKST
DTSTART:20191103T020000
TZOFFSETFROM:-0800
TZOFFSETTO:-0900
RDATE:20201101T020000
END:STANDARD
BEGIN:DAYLIGHT
TZNAME:AKDT
DTSTART:20190310T020000
TZOFFSETFROM:-0900
TZOFFSETTO:-0800
RDATE:20200308T020000
RDATE:20210314T020000
END:DAYLIGHT
END:VTIMEZONE
BEGIN:VEVENT
UID:cc26690e-bff5-4ebf-8096-305b83cdf2bd
DTSTAMP:20260422T080613Z
DESCRIPTION:Learn tips and tricks from seasoned professional  Julie Lekwauw
 a
DTSTART;TZID=America/Anchorage:20191106T180000
DTEND;TZID=America/Anchorage:20191106T190000
LOCATION:Ketchikan Public Library
SUMMARY:Create your Best Booth
END:VEVENT
END:VCALENDAR
