BEGIN:VCALENDAR
VERSION:2.0
PRODID:-//www.ketchikanarts.org//NONSGML kigkonsult.se iCalcreator 2.30.10/
 /
CALSCALE:GREGORIAN
METHOD:PUBLISH
UID:fe24afbb-7c89-4974-9552-9c87539a5806
X-WR-CALDESC:The world around you is a result of choices\; but in the space
  between yes and no\, there is a lifetime. Artist Lori Orlowski creates a 
 vivid world with her choices in color and placement\, although the space b
 etween is often the most mesmerizing.
X-WR-RELCALID:678c75e8313514ae38cb252ef5dfdf62
X-WR-TIMEZONE:America/Anchorage
BEGIN:VTIMEZONE
TZID:America/Anchorage
BEGIN:STANDARD
TZNAME:AKST
DTSTART:20181104T020000
TZOFFSETFROM:-0800
TZOFFSETTO:-0900
RDATE:20191103T020000
RDATE:20201101T020000
END:STANDARD
BEGIN:DAYLIGHT
TZNAME:AKDT
DTSTART:20190310T020000
TZOFFSETFROM:-0900
TZOFFSETTO:-0800
RDATE:20200308T020000
RDATE:20210314T020000
END:DAYLIGHT
END:VTIMEZONE
BEGIN:VEVENT
UID:c17a6291-7e95-47e1-b6b4-db5ac9f273fa
DTSTAMP:20260422T082721Z
DESCRIPTION:The world around you is a result of choices\; but in the space 
 between yes and no\, there is a lifetime. Artist Lori Orlowski creates a v
 ivid world with her choices in color and placement\, although the space be
 tween is often the most mesmerizing.
DTSTART;TZID=America/Anchorage:20191102T110000
DTEND;TZID=America/Anchorage:20191129T170000
LOCATION:Main Street Gallery
SUMMARY:'The Space Between' - an exhibit by Lori Orlowski at the Main Stree
 t Gallery
END:VEVENT
END:VCALENDAR
