BEGIN:VCALENDAR
VERSION:2.0
PRODID:-//www.ketchikanarts.org//NONSGML kigkonsult.se iCalcreator 2.30.10/
 /
CALSCALE:GREGORIAN
METHOD:PUBLISH
UID:91b9c86a-357c-4b03-98c8-a6a3765de82c
X-WR-CALDESC:Halloween Party costumes and great music!
X-WR-RELCALID:7a846d9d14a2b8c8dfa94f54e9b52254
X-WR-TIMEZONE:America/Anchorage
BEGIN:VTIMEZONE
TZID:America/Anchorage
BEGIN:STANDARD
TZNAME:AKST
DTSTART:20181104T020000
TZOFFSETFROM:-0800
TZOFFSETTO:-0900
RDATE:20191103T020000
RDATE:20201101T020000
END:STANDARD
BEGIN:DAYLIGHT
TZNAME:AKDT
DTSTART:20190310T020000
TZOFFSETFROM:-0900
TZOFFSETTO:-0800
RDATE:20200308T020000
RDATE:20210314T020000
END:DAYLIGHT
END:VTIMEZONE
BEGIN:VEVENT
UID:d6049749-39aa-42e9-bc9e-cda43a8bd5a3
DTSTAMP:20260422T080842Z
DESCRIPTION:Halloween Party costumes and great music!
DTSTART;TZID=America/Anchorage:20191101T193000
DTEND;TZID=America/Anchorage:20191101T223000
LOCATION:The 49er
SUMMARY:Woody's Finest Hour
END:VEVENT
END:VCALENDAR
