BEGIN:VCALENDAR
VERSION:2.0
PRODID:-//www.ketchikanarts.org//NONSGML kigkonsult.se iCalcreator 2.30.10/
 /
CALSCALE:GREGORIAN
METHOD:PUBLISH
UID:a1d78904-5c72-44a7-8ead-aacb8a6eb848
X-WR-CALDESC:Schoenbar Middle School Dinner and Concert Fundraiser. Purchas
 e Tickets in advance eat a delicious dinner while listening to the Schoenb
 ar Music Program sing and play at their first concert of the year!
X-WR-RELCALID:e96d0a8f6ee8ba3e7588ed92381888e2
X-WR-TIMEZONE:America/Anchorage
BEGIN:VTIMEZONE
TZID:America/Anchorage
BEGIN:STANDARD
TZNAME:AKST
DTSTART:20181104T020000
TZOFFSETFROM:-0800
TZOFFSETTO:-0900
RDATE:20191103T020000
RDATE:20201101T020000
END:STANDARD
BEGIN:DAYLIGHT
TZNAME:AKDT
DTSTART:20190310T020000
TZOFFSETFROM:-0900
TZOFFSETTO:-0800
RDATE:20200308T020000
RDATE:20210314T020000
END:DAYLIGHT
END:VTIMEZONE
BEGIN:VEVENT
UID:25b8a6b0-a9f3-4685-9816-47f01ff7736b
DTSTAMP:20260422T080919Z
DESCRIPTION:Schoenbar Middle School Dinner and Concert Fundraiser. Purchase
  Tickets in advance eat a delicious dinner while listening to the Schoenba
 r Music Program sing and play at their first concert of the year!
DTSTART;TZID=America/Anchorage:20191101T180000
DTEND;TZID=America/Anchorage:20191101T203000
LOCATION:Schoenbar Middle School
SUMMARY:Songs For Your Supper
END:VEVENT
END:VCALENDAR
