BEGIN:VCALENDAR
VERSION:2.0
PRODID:-//www.ketchikanarts.org//NONSGML kigkonsult.se iCalcreator 2.30.10/
 /
CALSCALE:GREGORIAN
METHOD:PUBLISH
UID:b45f5d01-320b-407b-ade4-973906e98728
X-WR-CALDESC:The world around you is a result of choices\; but in the space
  between yes and no\, there is a lifetime. Artist Lori Orlowski creates a 
 vivid world with her choices in color and placement\, although the space b
 etween is often the most mesmerizing.\n\nOpening Receptions are always fre
 e and open to the public.
X-WR-RELCALID:aca3645b2b13a5b8aa43d484fc213ce9
X-WR-TIMEZONE:America/Anchorage
BEGIN:VTIMEZONE
TZID:America/Anchorage
BEGIN:STANDARD
TZNAME:AKST
DTSTART:20181104T020000
TZOFFSETFROM:-0800
TZOFFSETTO:-0900
RDATE:20191103T020000
RDATE:20201101T020000
END:STANDARD
BEGIN:DAYLIGHT
TZNAME:AKDT
DTSTART:20190310T020000
TZOFFSETFROM:-0900
TZOFFSETTO:-0800
RDATE:20200308T020000
RDATE:20210314T020000
END:DAYLIGHT
END:VTIMEZONE
BEGIN:VEVENT
UID:a4502482-1b0c-422b-9657-dc47b2c241c2
DTSTAMP:20260422T082600Z
DESCRIPTION:The world around you is a result of choices\; but in the space 
 between yes and no\, there is a lifetime. Artist Lori Orlowski creates a v
 ivid world with her choices in color and placement\, although the space be
 tween is often the most mesmerizing.\n\nOpening Receptions are always free
  and open to the public.
DTSTART;TZID=America/Anchorage:20191101T170000
DTEND;TZID=America/Anchorage:20191101T190000
LOCATION:Main Street Gallery
SUMMARY:Opening Reception - 'The Space Between' - an exhibit by Lori Orlows
 ki at the Main Street Gallery
END:VEVENT
END:VCALENDAR
