BEGIN:VCALENDAR
VERSION:2.0
PRODID:-//www.ketchikanarts.org//NONSGML kigkonsult.se iCalcreator 2.30.10/
 /
CALSCALE:GREGORIAN
METHOD:PUBLISH
UID:d7cca21c-babf-42a9-b2be-91796ff044fd
X-WR-CALDESC:The Visual Arts Committee of Fairbanks Arts Association invite
 s artists and artisans from Alaska to submit for review digital images of 
 their work for possible solo\, group\, or curated exhibitions in the Bear 
 Gallery for the year 2021. Every month\, the Bear Gallery shows two fine a
 rts exhibitions by Alaskan artists / artist groups working in a variety of
  media to local and out-of-town visitors of Fairbanks. Portfolios are revi
 ewed by a panel of professional Alaskan artists and are chosen solely on t
 he merit of the work samples entered.\n\nPortfolios may propose the follow
 ing type of exhibitions: \n\nSolo Exhibit: One Artist \nGroup: Separate wo
 rks of two or more artists \nCurated: Curator selects theme\, conceptual f
 ocus\, and included artwork.\n\nEligibility\nThis call is open to resident
 s of Alaska ages 18 or older. An individual artist may have a solo exhibit
  in the Bear Gallery once every four years. Artists who have had a solo ex
 hibition prior to 2017 are eligible for consideration this year (curated e
 xhibits are not subject to this policy). \n\nNOTE: Artists may submit only
  one solo proposal. Group proposals consisting of a juried component\, a c
 all for entry\, or an exhibit entry fee cannot be submitted for portfolio 
 review. Curated and Group exhibits must have an organizing representative.
 \n\nThe submission deadline is October 31\, 2019\, 11:59pm MST.
X-WR-RELCALID:64d1ec2880627e11b50871ea00303567
X-WR-TIMEZONE:America/Anchorage
BEGIN:VTIMEZONE
TZID:America/Anchorage
BEGIN:STANDARD
TZNAME:AKST
DTSTART:20181104T020000
TZOFFSETFROM:-0800
TZOFFSETTO:-0900
RDATE:20191103T020000
RDATE:20201101T020000
END:STANDARD
BEGIN:DAYLIGHT
TZNAME:AKDT
DTSTART:20190310T020000
TZOFFSETFROM:-0900
TZOFFSETTO:-0800
RDATE:20200308T020000
RDATE:20210314T020000
END:DAYLIGHT
END:VTIMEZONE
BEGIN:VEVENT
UID:54e3f7b3-42d2-4614-bbf8-25e9e6e5953a
DTSTAMP:20260422T093943Z
DESCRIPTION:The Visual Arts Committee of Fairbanks Arts Association invites
  artists and artisans from Alaska to submit for review digital images of t
 heir work for possible solo\, group\, or curated exhibitions in the Bear G
 allery for the year 2021. Every month\, the Bear Gallery shows two fine ar
 ts exhibitions by Alaskan artists / artist groups working in a variety of 
 media to local and out-of-town visitors of Fairbanks. Portfolios are revie
 wed by a panel of professional Alaskan artists and are chosen solely on th
 e merit of the work samples entered.\n\nPortfolios may propose the followi
 ng type of exhibitions: \n\nSolo Exhibit: One Artist \nGroup: Separate wor
 ks of two or more artists \nCurated: Curator selects theme\, conceptual fo
 cus\, and included artwork.\n\nEligibility\nThis call is open to residents
  of Alaska ages 18 or older. An individual artist may have a solo exhibit 
 in the Bear Gallery once every four years. Artists who have had a solo exh
 ibition prior to 2017 are eligible for consideration this year (curated ex
 hibits are not subject to this policy). \n\nNOTE: Artists may submit only 
 one solo proposal. Group proposals consisting of a juried component\, a ca
 ll for entry\, or an exhibit entry fee cannot be submitted for portfolio r
 eview. Curated and Group exhibits must have an organizing representative.
 \n\nThe submission deadline is October 31\, 2019\, 11:59pm MST.
DTSTART;TZID=America/Anchorage:20191031T150000
DTEND;TZID=America/Anchorage:20191031T235900
LOCATION:Bear Gallery - Fairbanks Arts Association
SUMMARY:Fairbanks Arts - Bear Gallery Exhibition Call
END:VEVENT
END:VCALENDAR
