BEGIN:VCALENDAR
VERSION:2.0
PRODID:-//www.ketchikanarts.org//NONSGML kigkonsult.se iCalcreator 2.30.10/
 /
CALSCALE:GREGORIAN
METHOD:PUBLISH
UID:92e7633f-97f3-44c2-a40a-97a05cf9b5be
X-WR-CALDESC:
X-WR-RELCALID:07eb937748d7778ec712a477b31a8aa0
X-WR-TIMEZONE:America/Anchorage
BEGIN:VTIMEZONE
TZID:America/Anchorage
BEGIN:STANDARD
TZNAME:AKST
DTSTART:20181104T020000
TZOFFSETFROM:-0800
TZOFFSETTO:-0900
RDATE:20191103T020000
RDATE:20201101T020000
END:STANDARD
BEGIN:DAYLIGHT
TZNAME:AKDT
DTSTART:20190310T020000
TZOFFSETFROM:-0900
TZOFFSETTO:-0800
RDATE:20200308T020000
RDATE:20210314T020000
END:DAYLIGHT
END:VTIMEZONE
BEGIN:VEVENT
UID:a5f41d61-e817-4b01-8a69-ba9667c7b028
DTSTAMP:20260422T094836Z
DESCRIPTION:
DTSTART;TZID=America/Anchorage:20191031T163000
DTEND;TZID=America/Anchorage:20191031T173000
LOCATION:Upstairs in the Plaza
SUMMARY:Call for Musicans - Ketchikan Community Concert Band!!!!
END:VEVENT
END:VCALENDAR
