BEGIN:VCALENDAR
VERSION:2.0
PRODID:-//www.ketchikanarts.org//NONSGML kigkonsult.se iCalcreator 2.30.10/
 /
CALSCALE:GREGORIAN
METHOD:PUBLISH
UID:2fbb762b-317e-4b94-b65c-5ae64b633ae5
X-WR-CALDESC:Master weaver Dorica Jackson is recognized for her high\nlevel
  of mastery and the intricacy and precision of her work.\nShe has been wea
 ving and teaching to help regrow this art\nform since a time when few carr
 ied the knowledge of Chilkat\nweaving. Students will learn the basics of C
 hilkat weaving\nand complete a small Chilkat square. This class counts tow
 ard\na Certificate of Merit in Weaving.
X-WR-RELCALID:1c2ffdacfe04132dc3ab91cbe891596c
X-WR-TIMEZONE:America/Anchorage
BEGIN:VTIMEZONE
TZID:America/Anchorage
BEGIN:STANDARD
TZNAME:AKST
DTSTART:20181104T020000
TZOFFSETFROM:-0800
TZOFFSETTO:-0900
RDATE:20191103T020000
RDATE:20201101T020000
END:STANDARD
BEGIN:DAYLIGHT
TZNAME:AKDT
DTSTART:20190310T020000
TZOFFSETFROM:-0900
TZOFFSETTO:-0800
RDATE:20200308T020000
RDATE:20210314T020000
END:DAYLIGHT
END:VTIMEZONE
BEGIN:VEVENT
UID:93ed4419-46fa-49b1-ba03-40b8a35784e7
DTSTAMP:20260422T094606Z
DESCRIPTION:Master weaver Dorica Jackson is recognized for her high\nlevel 
 of mastery and the intricacy and precision of her work.\nShe has been weav
 ing and teaching to help regrow this art\nform since a time when few carri
 ed the knowledge of Chilkat\nweaving. Students will learn the basics of Ch
 ilkat weaving\nand complete a small Chilkat square. This class counts towa
 rd\na Certificate of Merit in Weaving.
DTSTART;TZID=America/Anchorage:20191028T180000
DTEND;TZID=America/Anchorage:20191028T210000
LOCATION:Totem Heritage Center
SUMMARY:Introduction to Chilkat Weaving with Dorica Jackson
END:VEVENT
END:VCALENDAR
