BEGIN:VCALENDAR
VERSION:2.0
PRODID:-//www.ketchikanarts.org//NONSGML kigkonsult.se iCalcreator 2.30.10/
 /
CALSCALE:GREGORIAN
METHOD:PUBLISH
UID:272bbc32-7d47-4a1f-90b7-802a9bf69a89
X-WR-CALDESC:Halloween Party costumes and great music!
X-WR-RELCALID:368015224af6e01adc7fd3516daedc56
X-WR-TIMEZONE:America/Anchorage
BEGIN:VTIMEZONE
TZID:America/Anchorage
BEGIN:STANDARD
TZNAME:AKST
DTSTART:20181104T020000
TZOFFSETFROM:-0800
TZOFFSETTO:-0900
RDATE:20191103T020000
RDATE:20201101T020000
END:STANDARD
BEGIN:DAYLIGHT
TZNAME:AKDT
DTSTART:20190310T020000
TZOFFSETFROM:-0900
TZOFFSETTO:-0800
RDATE:20200308T020000
RDATE:20210314T020000
END:DAYLIGHT
END:VTIMEZONE
BEGIN:VEVENT
UID:fb192bdf-3221-414b-a042-890558dbf539
DTSTAMP:20260422T093356Z
DESCRIPTION:Halloween Party costumes and great music!
DTSTART;TZID=America/Anchorage:20191025T210000
DTEND;TZID=America/Anchorage:20191025T235900
LOCATION:The Asylum
SUMMARY:Woody's Finest Hour
END:VEVENT
END:VCALENDAR
