BEGIN:VCALENDAR
VERSION:2.0
PRODID:-//www.ketchikanarts.org//NONSGML kigkonsult.se iCalcreator 2.30.10/
 /
CALSCALE:GREGORIAN
METHOD:PUBLISH
UID:be38aa38-358e-4f01-b532-fb7f60291e01
X-WR-CALDESC:Learn new ways of applying and manipulating watercolor\, and c
 reate your own reference guide to keep these techniques at your fingertips
 ! Apply newly acquired knowledge at the end of class on your own watercolo
 r landscape
X-WR-RELCALID:8c88ae421b93c4b51bded4d67c28d2ce
X-WR-TIMEZONE:America/Anchorage
BEGIN:VTIMEZONE
TZID:America/Anchorage
BEGIN:STANDARD
TZNAME:AKST
DTSTART:20181104T020000
TZOFFSETFROM:-0800
TZOFFSETTO:-0900
RDATE:20191103T020000
RDATE:20201101T020000
END:STANDARD
BEGIN:DAYLIGHT
TZNAME:AKDT
DTSTART:20190310T020000
TZOFFSETFROM:-0900
TZOFFSETTO:-0800
RDATE:20200308T020000
RDATE:20210314T020000
END:DAYLIGHT
END:VTIMEZONE
BEGIN:VEVENT
UID:a12283b5-a038-4765-a2b4-32d22835c200
DTSTAMP:20260422T094407Z
DESCRIPTION:Learn new ways of applying and manipulating watercolor\, and cr
 eate your own reference guide to keep these techniques at your fingertips!
  Apply newly acquired knowledge at the end of class on your own watercolor
  landscape
DTSTART;TZID=America/Anchorage:20191025T190000
DTEND;TZID=America/Anchorage:20191025T210000
LOCATION:The Main Street Gallery
SUMMARY:AU Studies in Water Color with MJ Turek
END:VEVENT
END:VCALENDAR
