BEGIN:VCALENDAR
VERSION:2.0
PRODID:-//www.ketchikanarts.org//NONSGML kigkonsult.se iCalcreator 2.30.10/
 /
CALSCALE:GREGORIAN
METHOD:PUBLISH
UID:e1a72e3f-5dbd-4bb0-93f5-f1936ccdc69f
X-WR-CALDESC:Learn the art of creating Dot Mandalas
X-WR-RELCALID:ffeedf64b613306edd61b872cea6c4f5
X-WR-TIMEZONE:America/Anchorage
BEGIN:VTIMEZONE
TZID:America/Anchorage
BEGIN:STANDARD
TZNAME:AKST
DTSTART:20181104T020000
TZOFFSETFROM:-0800
TZOFFSETTO:-0900
RDATE:20191103T020000
RDATE:20201101T020000
END:STANDARD
BEGIN:DAYLIGHT
TZNAME:AKDT
DTSTART:20190310T020000
TZOFFSETFROM:-0900
TZOFFSETTO:-0800
RDATE:20200308T020000
RDATE:20210314T020000
END:DAYLIGHT
END:VTIMEZONE
BEGIN:VEVENT
UID:02f735c6-b10e-4da5-abcf-8d1a9b670509
DTSTAMP:20260422T093248Z
DESCRIPTION:Learn the art of creating Dot Mandalas
DTSTART;TZID=America/Anchorage:20191022T180000
DTEND;TZID=America/Anchorage:20191022T200000
LOCATION:Vibrance a Creative Space
SUMMARY:Intro to Dot  Mandalas
END:VEVENT
END:VCALENDAR
