BEGIN:VCALENDAR
VERSION:2.0
PRODID:-//www.ketchikanarts.org//NONSGML kigkonsult.se iCalcreator 2.30.10/
 /
CALSCALE:GREGORIAN
METHOD:PUBLISH
UID:342a59f3-f426-40b2-a886-8ebb2d80d5a6
X-WR-CALDESC:Haida master weaver Evelyn Vanderhoop is an eminent\ninstructo
 r\, researcher\, and artist of Ravenstail and Naaxiin.\nLearning both from
  mother Delores Churchill and Cheryl\nSamuel\, she has shared the art trad
 itions of her heritage to\nensure its revival both through her daughters a
 nd students.\nThis class will focus on Ravenstail spiral weft and rigid we
 ft\nweaving methods. This class counts toward a Certificate of\nMerit in W
 eaving.
X-WR-RELCALID:f42c235984d60525171374d1e3d7ce54
X-WR-TIMEZONE:America/Anchorage
BEGIN:VTIMEZONE
TZID:America/Anchorage
BEGIN:STANDARD
TZNAME:AKST
DTSTART:20181104T020000
TZOFFSETFROM:-0800
TZOFFSETTO:-0900
RDATE:20191103T020000
RDATE:20201101T020000
END:STANDARD
BEGIN:DAYLIGHT
TZNAME:AKDT
DTSTART:20190310T020000
TZOFFSETFROM:-0900
TZOFFSETTO:-0800
RDATE:20200308T020000
RDATE:20210314T020000
END:DAYLIGHT
END:VTIMEZONE
BEGIN:VEVENT
UID:2c556e51-d7b8-431e-8809-3c443ffa61a6
DTSTAMP:20260422T094104Z
DESCRIPTION:Haida master weaver Evelyn Vanderhoop is an eminent\ninstructor
 \, researcher\, and artist of Ravenstail and Naaxiin.\nLearning both from 
 mother Delores Churchill and Cheryl\nSamuel\, she has shared the art tradi
 tions of her heritage to\nensure its revival both through her daughters an
 d students.\nThis class will focus on Ravenstail spiral weft and rigid wef
 t\nweaving methods. This class counts toward a Certificate of\nMerit in We
 aving.
DTSTART;TZID=America/Anchorage:20191020T120000
DTEND;TZID=America/Anchorage:20191020T160000
LOCATION:Totem Heritage Center
SUMMARY:Intermediate Ravenstail Weaving with Evelyn Vanderhoop
END:VEVENT
END:VCALENDAR
