BEGIN:VCALENDAR
VERSION:2.0
PRODID:-//www.ketchikanarts.org//NONSGML kigkonsult.se iCalcreator 2.30.10/
 /
CALSCALE:GREGORIAN
METHOD:PUBLISH
UID:b1a2004e-2f42-4c49-8388-4e8954710a33
X-WR-CALDESC:The Arts Council will be closed in observance of Alaska Day. W
 e encourage you to go out and do Alaska things on this day\, like make ART
 !!!!
X-WR-RELCALID:fd3c999e276c3d39f4c622e00fdaaa2f
X-WR-TIMEZONE:America/Anchorage
BEGIN:VTIMEZONE
TZID:America/Anchorage
BEGIN:STANDARD
TZNAME:AKST
DTSTART:20181104T020000
TZOFFSETFROM:-0800
TZOFFSETTO:-0900
RDATE:20191103T020000
RDATE:20201101T020000
END:STANDARD
BEGIN:DAYLIGHT
TZNAME:AKDT
DTSTART:20190310T020000
TZOFFSETFROM:-0900
TZOFFSETTO:-0800
RDATE:20200308T020000
RDATE:20210314T020000
END:DAYLIGHT
END:VTIMEZONE
BEGIN:VEVENT
UID:00daa811-99f5-419b-a15b-7d553b126089
DTSTAMP:20260422T094712Z
DESCRIPTION:The Arts Council will be closed in observance of Alaska Day. We
  encourage you to go out and do Alaska things on this day\, like make ART!
 !!!
DTSTART;TZID=America/Anchorage:20191018T090000
DTEND;TZID=America/Anchorage:20191018T170000
LOCATION:Main Street Gallery
SUMMARY:KAAHC Closed in observance of Alaska Day
END:VEVENT
END:VCALENDAR
