BEGIN:VCALENDAR
VERSION:2.0
PRODID:-//www.ketchikanarts.org//NONSGML kigkonsult.se iCalcreator 2.30.10/
 /
CALSCALE:GREGORIAN
METHOD:PUBLISH
UID:8a36215a-2aed-40a8-b4d0-115f279fed93
X-WR-CALDESC:Artistic Comedy!!!\n$25 at the door!
X-WR-RELCALID:f9d663a33eae33c260cdeacf78b0155b
X-WR-TIMEZONE:America/Anchorage
BEGIN:VTIMEZONE
TZID:America/Anchorage
BEGIN:STANDARD
TZNAME:AKST
DTSTART:20181104T020000
TZOFFSETFROM:-0800
TZOFFSETTO:-0900
RDATE:20191103T020000
RDATE:20201101T020000
END:STANDARD
BEGIN:DAYLIGHT
TZNAME:AKDT
DTSTART:20190310T020000
TZOFFSETFROM:-0900
TZOFFSETTO:-0800
RDATE:20200308T020000
RDATE:20210314T020000
END:DAYLIGHT
END:VTIMEZONE
BEGIN:VEVENT
UID:0b6789d3-c3aa-4829-988c-54422a6a87b5
DTSTAMP:20260422T093432Z
DESCRIPTION:Artistic Comedy!!!\n$25 at the door!
DTSTART;TZID=America/Anchorage:20191016T193000
DTEND;TZID=America/Anchorage:20191016T213000
LOCATION:Creek Street Cabaret
SUMMARY:The Native and the Nerd Comedy Tour
END:VEVENT
END:VCALENDAR
