BEGIN:VCALENDAR
VERSION:2.0
PRODID:-//www.ketchikanarts.org//NONSGML kigkonsult.se iCalcreator 2.30.10/
 /
CALSCALE:GREGORIAN
METHOD:PUBLISH
UID:8e73e7d7-eb6e-4ea4-ae22-bffc62442ae1
X-WR-CALDESC:1.    Parent Residency Grant | 4 weeks\nFor an artist with at 
 least one dependent child under the age of 18. This grant includes a $1450
  childcare stipend\, up to $250 for travel costs\, free onsite housing\, a
 nd 24/7 studio access. WSW can also provide technical advice and productio
 n assistance.\nDeadline: October 15\n2.    Studio Workspace Residency | 4-
 6 weeks\nAn opportunity for artists to create new work and fully immerse t
 hemselves in WSW's environment. This residency gives artists the gift of t
 ime\, an uninterrupted period to live and work away from the stresses of d
 aily life in any of our studios. \nDeadline: October 15\n3.     Ora Schnei
 der Regional Residency Grant | 4 weeks\nOpen to artists in New York’s Gree
 ne\, Columbia\, Delaware\, Dutchess\, Ulster\, Sullivan\, and Orange count
 ies. This grant includes a $1500 stipend and 24/7 studio access. Artists a
 re welcome to work in any of our studio disciplines.\nDeadline: October 15
 \n\n
X-WR-RELCALID:f507d7daec8c124bf70ed6f7c74804f8
X-WR-TIMEZONE:America/Anchorage
BEGIN:VTIMEZONE
TZID:America/Anchorage
BEGIN:STANDARD
TZNAME:AKST
DTSTART:20181104T020000
TZOFFSETFROM:-0800
TZOFFSETTO:-0900
RDATE:20191103T020000
RDATE:20201101T020000
END:STANDARD
BEGIN:DAYLIGHT
TZNAME:AKDT
DTSTART:20190310T020000
TZOFFSETFROM:-0900
TZOFFSETTO:-0800
RDATE:20200308T020000
RDATE:20210314T020000
END:DAYLIGHT
END:VTIMEZONE
BEGIN:VEVENT
UID:318fca0e-6bf4-4799-ac6b-02b3185bd610
DTSTAMP:20260422T093244Z
DESCRIPTION:1.    Parent Residency Grant | 4 weeks\nFor an artist with at l
 east one dependent child under the age of 18. This grant includes a $1450 
 childcare stipend\, up to $250 for travel costs\, free onsite housing\, an
 d 24/7 studio access. WSW can also provide technical advice and production
  assistance.\nDeadline: October 15\n2.    Studio Workspace Residency | 4-6
  weeks\nAn opportunity for artists to create new work and fully immerse th
 emselves in WSW's environment. This residency gives artists the gift of ti
 me\, an uninterrupted period to live and work away from the stresses of da
 ily life in any of our studios. \nDeadline: October 15\n3.     Ora Schneid
 er Regional Residency Grant | 4 weeks\nOpen to artists in New York’s Green
 e\, Columbia\, Delaware\, Dutchess\, Ulster\, Sullivan\, and Orange counti
 es. This grant includes a $1500 stipend and 24/7 studio access. Artists ar
 e welcome to work in any of our studio disciplines.\nDeadline: October 15
 \n\n
DTSTART;TZID=America/Anchorage:20191015T090000
DTEND;TZID=America/Anchorage:20191015T140000
LOCATION:Rosendale\, New York
SUMMARY:The Women's Studio Workshop
END:VEVENT
END:VCALENDAR
