BEGIN:VCALENDAR
VERSION:2.0
PRODID:-//www.ketchikanarts.org//NONSGML kigkonsult.se iCalcreator 2.30.10/
 /
CALSCALE:GREGORIAN
METHOD:PUBLISH
UID:3f580132-9280-4f3b-8927-821247c94179
X-WR-CALDESC:The Band and Choir get together for their Fall Concert!\nFree
X-WR-RELCALID:2b30d06a3fd056445065159f7b1c97d9
X-WR-TIMEZONE:America/Anchorage
BEGIN:VTIMEZONE
TZID:America/Anchorage
BEGIN:STANDARD
TZNAME:AKST
DTSTART:20181104T020000
TZOFFSETFROM:-0800
TZOFFSETTO:-0900
RDATE:20191103T020000
RDATE:20201101T020000
END:STANDARD
BEGIN:DAYLIGHT
TZNAME:AKDT
DTSTART:20190310T020000
TZOFFSETFROM:-0900
TZOFFSETTO:-0800
RDATE:20200308T020000
RDATE:20210314T020000
END:DAYLIGHT
END:VTIMEZONE
BEGIN:VEVENT
UID:5d62876d-1f2f-4a12-a9ea-188103d4e0a4
DTSTAMP:20260422T093943Z
DESCRIPTION:The Band and Choir get together for their Fall Concert!\nFree
DTSTART;TZID=America/Anchorage:20191014T190000
DTEND;TZID=America/Anchorage:20191014T210000
LOCATION:Kayhi Auditorium
SUMMARY:Fall Concert Ketchikan High School Band Choir
END:VEVENT
END:VCALENDAR
