BEGIN:VCALENDAR
VERSION:2.0
PRODID:-//www.ketchikanarts.org//NONSGML kigkonsult.se iCalcreator 2.30.10/
 /
CALSCALE:GREGORIAN
METHOD:PUBLISH
UID:42ac7822-3e29-4aca-a83d-650bf1997496
X-WR-CALDESC:Bend your elbow and partake in Ketchikan Area Arts and Humanit
 ies Council's delicious fundraiser - Beer and Brats - What is better than 
 a cold beer\, and freshly grilled brat? Supporting the Arts in Ketchikan o
 f course!!! Join us at the Creek Street Cabaret\, Saturday\, October 12th\
 , at 7:00 pm for a yummy of a good time for our mini Octoberfest! A joint 
 effort between the Arts Council\, Bawden Street Brewing Co.\, & Tatsuda's 
 IGA.\n\nThere is limited seating at this event so reserve your tickets tod
 ay by calling the Arts Council at 225-2211.\nTickets are $35\, must be 21 
 years of age or older to attend.
X-WR-RELCALID:aa6d04b45906141bfec19b94765379e2
X-WR-TIMEZONE:America/Anchorage
BEGIN:VTIMEZONE
TZID:America/Anchorage
BEGIN:STANDARD
TZNAME:AKST
DTSTART:20181104T020000
TZOFFSETFROM:-0800
TZOFFSETTO:-0900
RDATE:20191103T020000
RDATE:20201101T020000
END:STANDARD
BEGIN:DAYLIGHT
TZNAME:AKDT
DTSTART:20190310T020000
TZOFFSETFROM:-0900
TZOFFSETTO:-0800
RDATE:20200308T020000
RDATE:20210314T020000
END:DAYLIGHT
END:VTIMEZONE
BEGIN:VEVENT
UID:0db5f644-75ec-4990-9c03-3b8baf19a997
DTSTAMP:20260422T094105Z
DESCRIPTION:Bend your elbow and partake in Ketchikan Area Arts and Humaniti
 es Council's delicious fundraiser - Beer and Brats - What is better than a
  cold beer\, and freshly grilled brat? Supporting the Arts in Ketchikan of
  course!!! Join us at the Creek Street Cabaret\, Saturday\, October 12th\,
  at 7:00 pm for a yummy of a good time for our mini Octoberfest! A joint e
 ffort between the Arts Council\, Bawden Street Brewing Co.\, & Tatsuda's I
 GA.\n\nThere is limited seating at this event so reserve your tickets toda
 y by calling the Arts Council at 225-2211.\nTickets are $35\, must be 21 y
 ears of age or older to attend.
DTSTART;TZID=America/Anchorage:20191012T190000
DTEND;TZID=America/Anchorage:20191012T213000
LOCATION:Creek Street Cabaret
SUMMARY:Beer and Brats FOODraiser for KAAHC
END:VEVENT
END:VCALENDAR
