BEGIN:VCALENDAR
VERSION:2.0
PRODID:-//www.ketchikanarts.org//NONSGML kigkonsult.se iCalcreator 2.30.10/
 /
CALSCALE:GREGORIAN
METHOD:PUBLISH
UID:e7180cad-50f5-468b-89fd-c039e0819ff8
X-WR-CALDESC:“Bringing Creativity into Action” A lecture/workshop with jour
 naling. Delving into the navigation of our personal narration of island li
 fe. Boundaries and borders through words and paint.
X-WR-RELCALID:5cb0424e4078ac4774a0483aa1319d48
X-WR-TIMEZONE:America/Anchorage
BEGIN:VTIMEZONE
TZID:America/Anchorage
BEGIN:STANDARD
TZNAME:AKST
DTSTART:20181104T020000
TZOFFSETFROM:-0800
TZOFFSETTO:-0900
RDATE:20191103T020000
RDATE:20201101T020000
END:STANDARD
BEGIN:DAYLIGHT
TZNAME:AKDT
DTSTART:20190310T020000
TZOFFSETFROM:-0900
TZOFFSETTO:-0800
RDATE:20200308T020000
RDATE:20210314T020000
END:DAYLIGHT
END:VTIMEZONE
BEGIN:VEVENT
UID:02bc4fda-1f8f-4c9b-969f-64ff5ded2066
DTSTAMP:20260422T094550Z
DESCRIPTION:“Bringing Creativity into Action” A lecture/workshop with journ
 aling. Delving into the navigation of our personal narration of island lif
 e. Boundaries and borders through words and paint.
DTSTART;TZID=America/Anchorage:20191007T120000
DTEND;TZID=America/Anchorage:20191007T130000
LOCATION:Main Street Gallery
SUMMARY:Artist Presentation Julie Berg-Linville
END:VEVENT
END:VCALENDAR
