BEGIN:VCALENDAR
VERSION:2.0
PRODID:-//www.ketchikanarts.org//NONSGML kigkonsult.se iCalcreator 2.30.10/
 /
CALSCALE:GREGORIAN
METHOD:PUBLISH
UID:c48b132e-d2e1-4c95-b2ba-d56fa6e8f9e9
X-WR-CALDESC:Rehearsals of the Ketchikan Community Concert Band are on Mond
 ays\, beginning September 23rd. Rehearsals start at 7pm and will continue 
 on Mondays through December 9th. \n\nJeffrey Karlson will be taking Roy Mc
 Pherson's role as Music Director while Roy takes a break to play in the ba
 ritone section! It will be an exciting year for KCCB!!!\n\nThe annual Holi
 day Mall concert will be Saturday\, December 7th at noon.\nThe Fall perfor
 mance will be Sunday\, December 15th at 3pm at the Kayhi Auditorium.
X-WR-RELCALID:d8bfe995a88e3187cbb6c9cc661e27ab
X-WR-TIMEZONE:America/Anchorage
BEGIN:VTIMEZONE
TZID:America/Anchorage
BEGIN:STANDARD
TZNAME:AKST
DTSTART:20181104T020000
TZOFFSETFROM:-0800
TZOFFSETTO:-0900
RDATE:20191103T020000
RDATE:20201101T020000
END:STANDARD
BEGIN:DAYLIGHT
TZNAME:AKDT
DTSTART:20190310T020000
TZOFFSETFROM:-0900
TZOFFSETTO:-0800
RDATE:20200308T020000
RDATE:20210314T020000
END:DAYLIGHT
END:VTIMEZONE
BEGIN:VEVENT
UID:3942848b-ed53-4fd6-93e1-c8bee72bb671
DTSTAMP:20260422T095014Z
DESCRIPTION:Rehearsals of the Ketchikan Community Concert Band are on Monda
 ys\, beginning September 23rd. Rehearsals start at 7pm and will continue o
 n Mondays through December 9th. \n\nJeffrey Karlson will be taking Roy McP
 herson's role as Music Director while Roy takes a break to play in the bar
 itone section! It will be an exciting year for KCCB!!!\n\nThe annual Holid
 ay Mall concert will be Saturday\, December 7th at noon.\nThe Fall perform
 ance will be Sunday\, December 15th at 3pm at the Kayhi Auditorium.
DTSTART;TZID=America/Anchorage:20191007T190000
DTEND;TZID=America/Anchorage:20191007T203000
LOCATION:Upstairs at The Plaza Mall
SUMMARY:Ketchikan Community Concert Band rehearsal
END:VEVENT
END:VCALENDAR
