BEGIN:VCALENDAR
VERSION:2.0
PRODID:-//www.ketchikanarts.org//NONSGML kigkonsult.se iCalcreator 2.30.10/
 /
CALSCALE:GREGORIAN
METHOD:PUBLISH
UID:7ece70be-76ee-4b0f-b175-152115c32d65
X-WR-CALDESC:Dave Zenge will teach the safe and proper use of a variety\nof
  tools as students create a free-standing loom. Get to\nknow the Totem Her
 itage Center woodshop and create a\nloom that you can use in upcoming Rave
 nstail and Chilkat\nWeaving classes! This course counts as Introduction to
  Power\nTools\, which is a prerequisite for all carving classes at the\nTo
 tem Heritage Center and use of the woodshop
X-WR-RELCALID:4f7adc09fc60f31f39c6c17b421e58d8
X-WR-TIMEZONE:America/Anchorage
BEGIN:VTIMEZONE
TZID:America/Anchorage
BEGIN:STANDARD
TZNAME:AKST
DTSTART:20181104T020000
TZOFFSETFROM:-0800
TZOFFSETTO:-0900
RDATE:20191103T020000
RDATE:20201101T020000
END:STANDARD
BEGIN:DAYLIGHT
TZNAME:AKDT
DTSTART:20190310T020000
TZOFFSETFROM:-0900
TZOFFSETTO:-0800
RDATE:20200308T020000
RDATE:20210314T020000
END:DAYLIGHT
END:VTIMEZONE
BEGIN:VEVENT
UID:d4f5f2cf-09fc-45c4-ac87-77c304198c2b
DTSTAMP:20260422T093638Z
DESCRIPTION:Dave Zenge will teach the safe and proper use of a variety\nof 
 tools as students create a free-standing loom. Get to\nknow the Totem Heri
 tage Center woodshop and create a\nloom that you can use in upcoming Raven
 stail and Chilkat\nWeaving classes! This course counts as Introduction to 
 Power\nTools\, which is a prerequisite for all carving classes at the\nTot
 em Heritage Center and use of the woodshop
DTSTART;TZID=America/Anchorage:20191005T100000
DTEND;TZID=America/Anchorage:20191005T160000
LOCATION:Totem Heritage Center
SUMMARY:Intro to Wood Working- Loom Making
END:VEVENT
END:VCALENDAR
