BEGIN:VCALENDAR
VERSION:2.0
PRODID:-//www.ketchikanarts.org//NONSGML kigkonsult.se iCalcreator 2.30.10/
 /
CALSCALE:GREGORIAN
METHOD:PUBLISH
UID:4545ef1b-2f0a-452a-8117-b3b64e07d42b
X-WR-CALDESC:Quick $5 refresher course!\nThen an evening of Dancing with th
 e 'Why Not Dance ? Band'\nFun Fun Fun!!!
X-WR-RELCALID:19d6686a22d86f48721598cb34acf2c4
X-WR-TIMEZONE:America/Anchorage
BEGIN:VTIMEZONE
TZID:America/Anchorage
BEGIN:STANDARD
TZNAME:AKST
DTSTART:20181104T020000
TZOFFSETFROM:-0800
TZOFFSETTO:-0900
RDATE:20191103T020000
RDATE:20201101T020000
END:STANDARD
BEGIN:DAYLIGHT
TZNAME:AKDT
DTSTART:20190310T020000
TZOFFSETFROM:-0900
TZOFFSETTO:-0800
RDATE:20200308T020000
RDATE:20210314T020000
END:DAYLIGHT
END:VTIMEZONE
BEGIN:VEVENT
UID:e6bf2993-597a-4c6e-8a34-53bfdd7e64ff
DTSTAMP:20260422T094407Z
DESCRIPTION:Quick $5 refresher course!\nThen an evening of Dancing with the
  'Why Not Dance ? Band'\nFun Fun Fun!!!
DTSTART;TZID=America/Anchorage:20191004T191500
DTEND;TZID=America/Anchorage:20191004T220000
LOCATION:Creek Street Cabaret
SUMMARY:BOOMbal Dance Hall with the Why Not Dance Band
END:VEVENT
END:VCALENDAR
