BEGIN:VCALENDAR
VERSION:2.0
PRODID:-//www.ketchikanarts.org//NONSGML kigkonsult.se iCalcreator 2.30.10/
 /
CALSCALE:GREGORIAN
METHOD:PUBLISH
UID:b9c16da0-98c5-4774-b050-fb5fbbfa21d8
X-WR-CALDESC:Something new to celebrate the close of another fruitful visit
 or season!!!\nHead out on the town and visit our local galleries and art b
 usinesses: say hello\, give them a pat on the back\, a hug\, then check ou
 t all the artwork from our local artists. Start at the Main Street Gallery
 's opening reception of Perimeter\, a solo exhibit by Julie Berg-Linville.
  Pick up an art walk map to find all of our participating local businesses
  and art galleries!!!
X-WR-RELCALID:9b46bdcc82161ffa142261623c2487f9
X-WR-TIMEZONE:America/Anchorage
BEGIN:VTIMEZONE
TZID:America/Anchorage
BEGIN:STANDARD
TZNAME:AKST
DTSTART:20181104T020000
TZOFFSETFROM:-0800
TZOFFSETTO:-0900
RDATE:20191103T020000
RDATE:20201101T020000
END:STANDARD
BEGIN:DAYLIGHT
TZNAME:AKDT
DTSTART:20190310T020000
TZOFFSETFROM:-0900
TZOFFSETTO:-0800
RDATE:20200308T020000
RDATE:20210314T020000
END:DAYLIGHT
END:VTIMEZONE
BEGIN:VEVENT
UID:0818da8b-01f1-4a7f-93aa-6c7c4aff22d8
DTSTAMP:20260422T093358Z
DESCRIPTION:Something new to celebrate the close of another fruitful visito
 r season!!!\nHead out on the town and visit our local galleries and art bu
 sinesses: say hello\, give them a pat on the back\, a hug\, then check out
  all the artwork from our local artists. Start at the Main Street Gallery'
 s opening reception of Perimeter\, a solo exhibit by Julie Berg-Linville. 
 Pick up an art walk map to find all of our participating local businesses 
 and art galleries!!!
DTSTART;TZID=America/Anchorage:20191004T170000
DTEND;TZID=America/Anchorage:20191004T200000
LOCATION:Main Street Gallery
SUMMARY:ARTober Art Walk!!!!!!  (NEW!!!)
END:VEVENT
END:VCALENDAR
