BEGIN:VCALENDAR
VERSION:2.0
PRODID:-//www.ketchikanarts.org//NONSGML kigkonsult.se iCalcreator 2.30.10/
 /
CALSCALE:GREGORIAN
METHOD:PUBLISH
UID:9937e733-c585-4935-8d24-0c7e90fadaac
X-WR-CALDESC:
X-WR-RELCALID:ac341b28e1e2434a8eeaab4e34aa14be
X-WR-TIMEZONE:America/Anchorage
BEGIN:VTIMEZONE
TZID:America/Anchorage
BEGIN:STANDARD
TZNAME:AKST
DTSTART:20181104T020000
TZOFFSETFROM:-0800
TZOFFSETTO:-0900
RDATE:20191103T020000
RDATE:20201101T020000
END:STANDARD
BEGIN:DAYLIGHT
TZNAME:AKDT
DTSTART:20190310T020000
TZOFFSETFROM:-0900
TZOFFSETTO:-0800
RDATE:20200308T020000
RDATE:20210314T020000
END:DAYLIGHT
END:VTIMEZONE
BEGIN:VEVENT
UID:04bc8b70-abbe-4d9e-bd9b-c11f94cd8cb0
DTSTAMP:20260422T094357Z
DESCRIPTION:
DTSTART;TZID=America/Anchorage:20191001T190000
DTEND;TZID=America/Anchorage:20191001T210000
LOCATION:Main Street Gallery
SUMMARY:Life Drawing with Dave Rubin
END:VEVENT
END:VCALENDAR
