BEGIN:VCALENDAR
VERSION:2.0
PRODID:-//www.ketchikanarts.org//NONSGML kigkonsult.se iCalcreator 2.30.10/
 /
CALSCALE:GREGORIAN
METHOD:PUBLISH
UID:a1e61ff2-c0d6-4818-98f5-61c31cd823bf
X-WR-CALDESC:The Native Arts and Cultures Foundation’s (NACF) Mentor Artist
  Fellowship is a regional individual artist project award that focuses on 
 artistic mentoring in the Upper Midwest\, Pacific Northwest\, and Southwes
 t regions. The Fellowship is open to eligible\, established American India
 n and Alaska Native artists of 10 years or more who want to mentor an emer
 ging American Indian or Alaska Native artist apprentice in either the Trad
 itional or Contemporary Visual Arts categories for a period of fifteen mon
 ths.
X-WR-RELCALID:d72f7e751f8f798348ac7a92720284b5
X-WR-TIMEZONE:America/Los_Angeles
BEGIN:VTIMEZONE
TZID:America/Los_Angeles
BEGIN:STANDARD
TZNAME:PST
DTSTART:20181104T020000
TZOFFSETFROM:-0700
TZOFFSETTO:-0800
RDATE:20191103T020000
RDATE:20201101T020000
END:STANDARD
BEGIN:DAYLIGHT
TZNAME:PDT
DTSTART:20190310T020000
TZOFFSETFROM:-0800
TZOFFSETTO:-0700
RDATE:20200308T020000
RDATE:20210314T020000
END:DAYLIGHT
END:VTIMEZONE
BEGIN:VEVENT
UID:fd6ec0a0-4d1a-47e6-9d34-ac0c0e23d5e9
DTSTAMP:20260422T111550Z
DESCRIPTION:The Native Arts and Cultures Foundation’s (NACF) Mentor Artist 
 Fellowship is a regional individual artist project award that focuses on a
 rtistic mentoring in the Upper Midwest\, Pacific Northwest\, and Southwest
  regions. The Fellowship is open to eligible\, established American Indian
  and Alaska Native artists of 10 years or more who want to mentor an emerg
 ing American Indian or Alaska Native artist apprentice in either the Tradi
 tional or Contemporary Visual Arts categories for a period of fifteen mont
 hs.
DTSTART;TZID=America/Los_Angeles:20190930T090000
DTEND;TZID=America/Los_Angeles:20190930T170000
LOCATION:
SUMMARY:Native Arts and Cultures Foundation Mentor Artist Fellowship
END:VEVENT
END:VCALENDAR
