BEGIN:VCALENDAR
VERSION:2.0
PRODID:-//www.ketchikanarts.org//NONSGML kigkonsult.se iCalcreator 2.30.10/
 /
CALSCALE:GREGORIAN
METHOD:PUBLISH
UID:1a956660-0be3-427d-9c15-33d1d5d25d53
X-WR-CALDESC:Diva\, Devo ticket stub gets you in free. $5 without. Live mus
 ic lots of fun! Slow Tide!
X-WR-RELCALID:599767f2118cdebe0175fd95540c4dd7
X-WR-TIMEZONE:America/Anchorage
BEGIN:VTIMEZONE
TZID:America/Anchorage
BEGIN:STANDARD
TZNAME:AKST
DTSTART:20181104T020000
TZOFFSETFROM:-0800
TZOFFSETTO:-0900
RDATE:20191103T020000
RDATE:20201101T020000
END:STANDARD
BEGIN:DAYLIGHT
TZNAME:AKDT
DTSTART:20190310T020000
TZOFFSETFROM:-0900
TZOFFSETTO:-0800
RDATE:20200308T020000
RDATE:20210314T020000
END:DAYLIGHT
END:VTIMEZONE
BEGIN:VEVENT
UID:de0ed4b2-5594-4c10-8aea-d4c862d422c9
DTSTAMP:20260422T111042Z
DESCRIPTION:Diva\, Devo ticket stub gets you in free. $5 without. Live musi
 c lots of fun! Slow Tide!
DTSTART;TZID=America/Anchorage:20190928T223000
DTEND;TZID=America/Anchorage:20190928T233000
LOCATION:Creek Street Cabaret
SUMMARY:Divas Divos After Party
END:VEVENT
END:VCALENDAR
