BEGIN:VCALENDAR
VERSION:2.0
PRODID:-//www.ketchikanarts.org//NONSGML kigkonsult.se iCalcreator 2.30.10/
 /
CALSCALE:GREGORIAN
METHOD:PUBLISH
UID:60d6d95a-9832-4aca-86b7-7080f87b0939
X-WR-CALDESC:Dave Rubin and Hannah Karrick play a beautiful duet of guitar 
 and violin. Enjoy their music at dinner or with cocktails.
X-WR-RELCALID:79899fc193a65a924c7c45adb1b423d9
X-WR-TIMEZONE:America/Anchorage
BEGIN:VTIMEZONE
TZID:America/Anchorage
BEGIN:STANDARD
TZNAME:AKST
DTSTART:20181104T020000
TZOFFSETFROM:-0800
TZOFFSETTO:-0900
RDATE:20191103T020000
RDATE:20201101T020000
END:STANDARD
BEGIN:DAYLIGHT
TZNAME:AKDT
DTSTART:20190310T020000
TZOFFSETFROM:-0900
TZOFFSETTO:-0800
RDATE:20200308T020000
RDATE:20210314T020000
END:DAYLIGHT
END:VTIMEZONE
BEGIN:VEVENT
UID:0d0c1175-9e7a-43c6-938e-10195cff86c8
DTSTAMP:20260422T111415Z
DESCRIPTION:Dave Rubin and Hannah Karrick play a beautiful duet of guitar a
 nd violin. Enjoy their music at dinner or with cocktails.
DTSTART;TZID=America/Anchorage:20190928T180000
DTEND;TZID=America/Anchorage:20190928T210000
LOCATION:Salmon Falls Resort
SUMMARY:Dave and Hannah
END:VEVENT
END:VCALENDAR
