BEGIN:VCALENDAR
VERSION:2.0
PRODID:-//www.ketchikanarts.org//NONSGML kigkonsult.se iCalcreator 2.30.10/
 /
CALSCALE:GREGORIAN
METHOD:PUBLISH
UID:289630cd-fb6f-4bf1-b605-41ff8db7f893
X-WR-CALDESC:Interested in busting out that old musical instrument again an
 d playing in an awesome with band with great people? Get ready for the fir
 st rehearsal of the Ketchikan Community Concert Band on Monday\, September
  23rd. Rehearsals start at 7pm and will continue on Mondays through the be
 ginning of December. \n\nJeffrey Karlson will be taking Roy McPherson's ro
 le as Music Director while Roy takes a break to play in the baritone secti
 on! It will be an exciting year for KCCB!!!\n\nThe annual Holiday Mall con
 cert will be Saturday\, December 7th at noon.\nThe Fall performance will b
 e Sunday\, December 15th at 3pm at the Kayhi Auditorium.
X-WR-RELCALID:51beb2e1b1b1b02648c2d1195904fcb4
X-WR-TIMEZONE:America/Anchorage
BEGIN:VTIMEZONE
TZID:America/Anchorage
BEGIN:STANDARD
TZNAME:AKST
DTSTART:20181104T020000
TZOFFSETFROM:-0800
TZOFFSETTO:-0900
RDATE:20191103T020000
RDATE:20201101T020000
END:STANDARD
BEGIN:DAYLIGHT
TZNAME:AKDT
DTSTART:20190310T020000
TZOFFSETFROM:-0900
TZOFFSETTO:-0800
RDATE:20200308T020000
RDATE:20210314T020000
END:DAYLIGHT
END:VTIMEZONE
BEGIN:VEVENT
UID:0e61a3cb-5e8a-47a3-b81d-d5b9141e6f07
DTSTAMP:20260422T113021Z
DESCRIPTION:Interested in busting out that old musical instrument again and
  playing in an awesome with band with great people? Get ready for the firs
 t rehearsal of the Ketchikan Community Concert Band on Monday\, September 
 23rd. Rehearsals start at 7pm and will continue on Mondays through the beg
 inning of December. \n\nJeffrey Karlson will be taking Roy McPherson's rol
 e as Music Director while Roy takes a break to play in the baritone sectio
 n! It will be an exciting year for KCCB!!!\n\nThe annual Holiday Mall conc
 ert will be Saturday\, December 7th at noon.\nThe Fall performance will be
  Sunday\, December 15th at 3pm at the Kayhi Auditorium.
DTSTART;TZID=America/Anchorage:20190923T190000
DTEND;TZID=America/Anchorage:20190923T203000
LOCATION:Upstairs at The Plaza Mall
SUMMARY:Ketchikan Community Concert Band FIRST rehearsal
END:VEVENT
END:VCALENDAR
