BEGIN:VCALENDAR
VERSION:2.0
PRODID:-//www.ketchikanarts.org//NONSGML kigkonsult.se iCalcreator 2.30.10/
 /
CALSCALE:GREGORIAN
METHOD:PUBLISH
UID:f5b4d0e3-9e45-4391-b291-317658bdd4bd
X-WR-CALDESC:Fritz and Clara Auditions
X-WR-RELCALID:727cb9816f1f197250f9f30837660b75
X-WR-TIMEZONE:America/Anchorage
BEGIN:VTIMEZONE
TZID:America/Anchorage
BEGIN:STANDARD
TZNAME:AKST
DTSTART:20181104T020000
TZOFFSETFROM:-0800
TZOFFSETTO:-0900
RDATE:20191103T020000
RDATE:20201101T020000
END:STANDARD
BEGIN:DAYLIGHT
TZNAME:AKDT
DTSTART:20190310T020000
TZOFFSETFROM:-0900
TZOFFSETTO:-0800
RDATE:20200308T020000
RDATE:20210314T020000
END:DAYLIGHT
END:VTIMEZONE
BEGIN:VEVENT
UID:5305fcaf-9873-47c2-ac8c-1697cbeb30a9
DTSTAMP:20260422T110900Z
DESCRIPTION:Fritz and Clara Auditions
DTSTART;TZID=America/Anchorage:20190921T120000
DTEND;TZID=America/Anchorage:20190921T130000
LOCATION:Ketchikan Theater Ballet Studio
SUMMARY:Fritz and Clara Auditions
END:VEVENT
END:VCALENDAR
