BEGIN:VCALENDAR
VERSION:2.0
PRODID:-//www.ketchikanarts.org//NONSGML kigkonsult.se iCalcreator 2.30.10/
 /
CALSCALE:GREGORIAN
METHOD:PUBLISH
UID:905574a4-db0e-4a17-b3a8-597e4928e81b
X-WR-CALDESC:All supplies will be provided to paint your very own moose on 
 stretched canvas. Learn acrylic techniques and enjoy a relaxing time. \n$3
 5 a person. Paid to reserve your spot. Paypal\, google pay\, venmo accepte
 d.
X-WR-RELCALID:e97b494a110c03eecd09576c7176d28b
X-WR-TIMEZONE:America/Anchorage
BEGIN:VTIMEZONE
TZID:America/Anchorage
BEGIN:STANDARD
TZNAME:AKST
DTSTART:20181104T020000
TZOFFSETFROM:-0800
TZOFFSETTO:-0900
RDATE:20191103T020000
RDATE:20201101T020000
END:STANDARD
BEGIN:DAYLIGHT
TZNAME:AKDT
DTSTART:20190310T020000
TZOFFSETFROM:-0900
TZOFFSETTO:-0800
RDATE:20200308T020000
RDATE:20210314T020000
END:DAYLIGHT
END:VTIMEZONE
BEGIN:VEVENT
UID:eb4bd82b-e6f1-4f16-a307-6594ae90bb42
DTSTAMP:20260422T111053Z
DESCRIPTION:All supplies will be provided to paint your very own moose on s
 tretched canvas. Learn acrylic techniques and enjoy a relaxing time. \n$35
  a person. Paid to reserve your spot. Paypal\, google pay\, venmo accepted
 .
DTSTART;TZID=America/Anchorage:20190920T180000
DTEND;TZID=America/Anchorage:20190920T200000
LOCATION:Vibrance A Creative Space
SUMMARY:Acrylic Moose Painting
END:VEVENT
END:VCALENDAR
