BEGIN:VCALENDAR
VERSION:2.0
PRODID:-//www.ketchikanarts.org//NONSGML kigkonsult.se iCalcreator 2.30.10/
 /
CALSCALE:GREGORIAN
METHOD:PUBLISH
UID:a543ea9b-7d5b-4059-987f-174791ed1ee8
X-WR-CALDESC:Join Dave Rubin\, guitar\, Hannah Karrick\, violin\, and Chazz
  Gist\, bass\, at the Cape Fox Lodge for your listening pleasure.
X-WR-RELCALID:1999a6361b23a4d87518a3c9eb2dba66
X-WR-TIMEZONE:America/Anchorage
BEGIN:VTIMEZONE
TZID:America/Anchorage
BEGIN:STANDARD
TZNAME:AKST
DTSTART:20181104T020000
TZOFFSETFROM:-0800
TZOFFSETTO:-0900
RDATE:20191103T020000
RDATE:20201101T020000
END:STANDARD
BEGIN:DAYLIGHT
TZNAME:AKDT
DTSTART:20190310T020000
TZOFFSETFROM:-0900
TZOFFSETTO:-0800
RDATE:20200308T020000
RDATE:20210314T020000
END:DAYLIGHT
END:VTIMEZONE
BEGIN:VEVENT
UID:4dbbeb7b-134b-4892-8138-7e37f155be96
DTSTAMP:20260422T112112Z
DESCRIPTION:Join Dave Rubin\, guitar\, Hannah Karrick\, violin\, and Chazz 
 Gist\, bass\, at the Cape Fox Lodge for your listening pleasure.
DTSTART;TZID=America/Anchorage:20190919T170000
DTEND;TZID=America/Anchorage:20190919T203000
LOCATION:Cape Fox Lodge
SUMMARY:Dave\, Hannah\, and Chaz
END:VEVENT
END:VCALENDAR
