BEGIN:VCALENDAR
VERSION:2.0
PRODID:-//www.ketchikanarts.org//NONSGML kigkonsult.se iCalcreator 2.30.10/
 /
CALSCALE:GREGORIAN
METHOD:PUBLISH
UID:ca4e95c0-700b-4f75-98ed-08a8b08013d4
X-WR-CALDESC:Ketchikan Public Library will be screening the Academy-award n
 ominated film “Girl With a Pearl Earring” and painting masterpieces. \n\nD
 oors open at 5:30 pm and the film begins at 6:00 pm. \nRefreshments and ar
 t supplies are provided\, space is limited.
X-WR-RELCALID:473c9931c84944453311f3ca1623cdb1
X-WR-TIMEZONE:America/Anchorage
BEGIN:VTIMEZONE
TZID:America/Anchorage
BEGIN:STANDARD
TZNAME:AKST
DTSTART:20181104T020000
TZOFFSETFROM:-0800
TZOFFSETTO:-0900
RDATE:20191103T020000
RDATE:20201101T020000
END:STANDARD
BEGIN:DAYLIGHT
TZNAME:AKDT
DTSTART:20190310T020000
TZOFFSETFROM:-0900
TZOFFSETTO:-0800
RDATE:20200308T020000
RDATE:20210314T020000
END:DAYLIGHT
END:VTIMEZONE
BEGIN:VEVENT
UID:7465b529-2b3e-48b5-a9e7-00065d1166f3
DTSTAMP:20260422T111044Z
DESCRIPTION:Ketchikan Public Library will be screening the Academy-award no
 minated film “Girl With a Pearl Earring” and painting masterpieces. \n\nDo
 ors open at 5:30 pm and the film begins at 6:00 pm. \nRefreshments and art
  supplies are provided\, space is limited.
DTSTART;TZID=America/Anchorage:20190918T173000
DTEND;TZID=America/Anchorage:20190918T200000
LOCATION:Ketchikan Public Library
SUMMARY:An Evening with Vermeer
END:VEVENT
END:VCALENDAR
