BEGIN:VCALENDAR
VERSION:2.0
PRODID:-//www.ketchikanarts.org//NONSGML kigkonsult.se iCalcreator 2.30.10/
 /
CALSCALE:GREGORIAN
METHOD:PUBLISH
UID:1b2ca135-6081-4206-8736-b12c91ad41a3
X-WR-CALDESC:Monthly Board of Directors Meeting
X-WR-RELCALID:919c735847e671c2c1e9ecfcf76a038c
X-WR-TIMEZONE:America/Anchorage
BEGIN:VTIMEZONE
TZID:America/Anchorage
BEGIN:STANDARD
TZNAME:AKST
DTSTART:20181104T020000
TZOFFSETFROM:-0800
TZOFFSETTO:-0900
RDATE:20191103T020000
RDATE:20201101T020000
END:STANDARD
BEGIN:DAYLIGHT
TZNAME:AKDT
DTSTART:20190310T020000
TZOFFSETFROM:-0900
TZOFFSETTO:-0800
RDATE:20200308T020000
RDATE:20210314T020000
END:DAYLIGHT
END:VTIMEZONE
BEGIN:VEVENT
UID:7a33c03b-6202-4f81-80e2-a3e78cf1798d
DTSTAMP:20260422T112703Z
DESCRIPTION:Monthly Board of Directors Meeting
DTSTART;TZID=America/Anchorage:20190918T173000
DTEND;TZID=America/Anchorage:20190918T190000
LOCATION:Main Street Gallery
SUMMARY:Ketchikan Area Arts and Humanities Board of Directors Meeting
END:VEVENT
END:VCALENDAR
