BEGIN:VCALENDAR
VERSION:2.0
PRODID:-//www.ketchikanarts.org//NONSGML kigkonsult.se iCalcreator 2.30.10/
 /
CALSCALE:GREGORIAN
METHOD:PUBLISH
UID:258e4c71-e74b-4b47-955a-d30db9dec244
X-WR-CALDESC:KRBD Fundraiser\nLatin and Brazillian Dance Night\nwith Rob Ho
 lston\, Karl Richie\, Austin Hays\, Kim Henrickson\, Chazz Gist\, Steven P
 erro\, Dave Rubin and Special guests Maria Dudzak and Andrew Boushka!!! $1
 0 at the door
X-WR-RELCALID:622f604b0fda1505f6e752ceb74dd273
X-WR-TIMEZONE:America/Anchorage
BEGIN:VTIMEZONE
TZID:America/Anchorage
BEGIN:STANDARD
TZNAME:AKST
DTSTART:20181104T020000
TZOFFSETFROM:-0800
TZOFFSETTO:-0900
RDATE:20191103T020000
RDATE:20201101T020000
END:STANDARD
BEGIN:DAYLIGHT
TZNAME:AKDT
DTSTART:20190310T020000
TZOFFSETFROM:-0900
TZOFFSETTO:-0800
RDATE:20200308T020000
RDATE:20210314T020000
END:DAYLIGHT
END:VTIMEZONE
BEGIN:VEVENT
UID:5e327537-2145-416d-ac98-2a36b42904fc
DTSTAMP:20260422T110747Z
DESCRIPTION:KRBD Fundraiser\nLatin and Brazillian Dance Night\nwith Rob Hol
 ston\, Karl Richie\, Austin Hays\, Kim Henrickson\, Chazz Gist\, Steven Pe
 rro\, Dave Rubin and Special guests Maria Dudzak and Andrew Boushka!!! $10
  at the door
DTSTART;TZID=America/Anchorage:20190915T180000
DTEND;TZID=America/Anchorage:20190915T210000
LOCATION:Creek Street Cabaret
SUMMARY:KRBD Fundraiser
END:VEVENT
END:VCALENDAR
