BEGIN:VCALENDAR
VERSION:2.0
PRODID:-//www.ketchikanarts.org//NONSGML kigkonsult.se iCalcreator 2.30.10/
 /
CALSCALE:GREGORIAN
METHOD:PUBLISH
UID:6133da43-ea39-482c-bc7a-7c85305ec614
X-WR-CALDESC:The Return of the Wranglers!\nSaturday\, September 14th @ 8pm
 \nIt promises to be a very fun night.\nDon’t Miss It!\n$5 cover\nUnder 21 
 must bring a parent or legal guardian.
X-WR-RELCALID:a38becff5169d6b601c1f4e59ee4d893
X-WR-TIMEZONE:America/Anchorage
BEGIN:VTIMEZONE
TZID:America/Anchorage
BEGIN:STANDARD
TZNAME:AKST
DTSTART:20181104T020000
TZOFFSETFROM:-0800
TZOFFSETTO:-0900
RDATE:20191103T020000
RDATE:20201101T020000
END:STANDARD
BEGIN:DAYLIGHT
TZNAME:AKDT
DTSTART:20190310T020000
TZOFFSETFROM:-0900
TZOFFSETTO:-0800
RDATE:20200308T020000
RDATE:20210314T020000
END:DAYLIGHT
END:VTIMEZONE
BEGIN:VEVENT
UID:bee1c2dc-c4df-4d46-b97f-9c9fefaf1c09
DTSTAMP:20260422T111043Z
DESCRIPTION:The Return of the Wranglers!\nSaturday\, September 14th @ 8pm\n
 It promises to be a very fun night.\nDon’t Miss It!\n$5 cover\nUnder 21 mu
 st bring a parent or legal guardian.
DTSTART;TZID=America/Anchorage:20190914T200000
DTEND;TZID=America/Anchorage:20190914T220000
LOCATION:Creek Street Cabaret
SUMMARY:Ratfish Wranglers
END:VEVENT
END:VCALENDAR
