BEGIN:VCALENDAR
VERSION:2.0
PRODID:-//www.ketchikanarts.org//NONSGML kigkonsult.se iCalcreator 2.30.10/
 /
CALSCALE:GREGORIAN
METHOD:PUBLISH
UID:93ee1298-d0a5-47fd-989f-4e3cf958aeac
X-WR-CALDESC:Dave Rubin and Hannah Karrick play a beautiful duet of guitar 
 and violin. Enjoy their music at dinner or with cocktails.
X-WR-RELCALID:a4ff987c9a34cd70216088125e4099a9
X-WR-TIMEZONE:America/Anchorage
BEGIN:VTIMEZONE
TZID:America/Anchorage
BEGIN:STANDARD
TZNAME:AKST
DTSTART:20181104T020000
TZOFFSETFROM:-0800
TZOFFSETTO:-0900
RDATE:20191103T020000
RDATE:20201101T020000
END:STANDARD
BEGIN:DAYLIGHT
TZNAME:AKDT
DTSTART:20190310T020000
TZOFFSETFROM:-0900
TZOFFSETTO:-0800
RDATE:20200308T020000
RDATE:20210314T020000
END:DAYLIGHT
END:VTIMEZONE
BEGIN:VEVENT
UID:0a228f50-03b9-4b5b-bad3-8b0b00859a6f
DTSTAMP:20260422T111305Z
DESCRIPTION:Dave Rubin and Hannah Karrick play a beautiful duet of guitar a
 nd violin. Enjoy their music at dinner or with cocktails.
DTSTART;TZID=America/Anchorage:20190914T180000
DTEND;TZID=America/Anchorage:20190914T210000
LOCATION:Salmon Falls Resort
SUMMARY:Dave and Hannah
END:VEVENT
END:VCALENDAR
