BEGIN:VCALENDAR
VERSION:2.0
PRODID:-//www.ketchikanarts.org//NONSGML kigkonsult.se iCalcreator 2.30.10/
 /
CALSCALE:GREGORIAN
METHOD:PUBLISH
UID:a0281fde-2838-4f52-bafc-87e6da4eb7fc
X-WR-CALDESC:$5 at the door! Dance to live calling and music from the Free 
 Radicals! Don't need to know how all dances are taught! Grab a partner and
  let's do-si-do!
X-WR-RELCALID:56669e486b4956c84e04479736c951e9
X-WR-TIMEZONE:America/Anchorage
BEGIN:VTIMEZONE
TZID:America/Anchorage
BEGIN:STANDARD
TZNAME:AKST
DTSTART:20181104T020000
TZOFFSETFROM:-0800
TZOFFSETTO:-0900
RDATE:20191103T020000
RDATE:20201101T020000
END:STANDARD
BEGIN:DAYLIGHT
TZNAME:AKDT
DTSTART:20190310T020000
TZOFFSETFROM:-0900
TZOFFSETTO:-0800
RDATE:20200308T020000
RDATE:20210314T020000
END:DAYLIGHT
END:VTIMEZONE
BEGIN:VEVENT
UID:edcda4ed-91f6-45d8-bf26-6e3be5575460
DTSTAMP:20260422T110908Z
DESCRIPTION:$5 at the door! Dance to live calling and music from the Free R
 adicals! Don't need to know how all dances are taught! Grab a partner and 
 let's do-si-do!
DTSTART;TZID=America/Anchorage:20190913T190000
DTEND;TZID=America/Anchorage:20190913T210000
LOCATION:Creek Street Cabaret
SUMMARY:Alaska Square Dance
END:VEVENT
END:VCALENDAR
