BEGIN:VCALENDAR
VERSION:2.0
PRODID:-//www.ketchikanarts.org//NONSGML kigkonsult.se iCalcreator 2.30.10/
 /
CALSCALE:GREGORIAN
METHOD:PUBLISH
UID:84eafc1c-6ca1-43a7-a930-70c7579afdec
X-WR-CALDESC:Rob Holston Plays an array of musical instruments as he tribut
 es Fran Sinatra.
X-WR-RELCALID:4b0196c982d5d20ea2ea537f59c044a0
X-WR-TIMEZONE:America/Anchorage
BEGIN:VTIMEZONE
TZID:America/Anchorage
BEGIN:STANDARD
TZNAME:AKST
DTSTART:20181104T020000
TZOFFSETFROM:-0800
TZOFFSETTO:-0900
RDATE:20191103T020000
RDATE:20201101T020000
END:STANDARD
BEGIN:DAYLIGHT
TZNAME:AKDT
DTSTART:20190310T020000
TZOFFSETFROM:-0900
TZOFFSETTO:-0800
RDATE:20200308T020000
RDATE:20210314T020000
END:DAYLIGHT
END:VTIMEZONE
BEGIN:VEVENT
UID:6bc73055-73e6-4594-bb98-87413c865d72
DTSTAMP:20260422T111304Z
DESCRIPTION:Rob Holston Plays an array of musical instruments as he tribute
 s Fran Sinatra.
DTSTART;TZID=America/Anchorage:20190913T190000
DTEND;TZID=America/Anchorage:20190913T210000
LOCATION:Salmon Falls Resort
SUMMARY:Obvious Jazz Rob Holston
END:VEVENT
END:VCALENDAR
