BEGIN:VCALENDAR
VERSION:2.0
PRODID:-//www.ketchikanarts.org//NONSGML kigkonsult.se iCalcreator 2.30.10/
 /
CALSCALE:GREGORIAN
METHOD:PUBLISH
UID:640bcde3-2d73-47ad-82c0-0efcdab54c48
X-WR-CALDESC:Have you always wanted to sing? You are welcome and encouraged
  to make it to the first rehearsal for the Ketchikan Community Chorus on T
 uesday\, September 10th. Rehearsals start at 7pm at the Ketchikan Presbyte
 rian Church.  The Fall performances will be Friday\, December 5th at 7pm a
 nd Sunday\, December 8th at 2pm.
X-WR-RELCALID:725c6708218f22c0c3eb4e6177cd8fef
X-WR-TIMEZONE:America/Anchorage
BEGIN:VTIMEZONE
TZID:America/Anchorage
BEGIN:STANDARD
TZNAME:AKST
DTSTART:20181104T020000
TZOFFSETFROM:-0800
TZOFFSETTO:-0900
RDATE:20191103T020000
RDATE:20201101T020000
END:STANDARD
BEGIN:DAYLIGHT
TZNAME:AKDT
DTSTART:20190310T020000
TZOFFSETFROM:-0900
TZOFFSETTO:-0800
RDATE:20200308T020000
END:DAYLIGHT
END:VTIMEZONE
BEGIN:VEVENT
UID:368b4153-aa53-4680-b6e2-e09946346a55
DTSTAMP:20260422T111457Z
DESCRIPTION:Have you always wanted to sing? You are welcome and encouraged 
 to make it to the first rehearsal for the Ketchikan Community Chorus on Tu
 esday\, September 10th. Rehearsals start at 7pm at the Ketchikan Presbyter
 ian Church.  The Fall performances will be Friday\, December 5th at 7pm an
 d Sunday\, December 8th at 2pm.
DTSTART;TZID=America/Anchorage:20190910T190000
DTEND;TZID=America/Anchorage:20190910T210000
LOCATION:Ketchikan Presbyterian Church
SUMMARY:Ketchikan Community Chorus FIRST rehearsal
END:VEVENT
END:VCALENDAR
