BEGIN:VCALENDAR
VERSION:2.0
PRODID:-//www.ketchikanarts.org//NONSGML kigkonsult.se iCalcreator 2.30.10/
 /
CALSCALE:GREGORIAN
METHOD:PUBLISH
UID:b289aabb-5390-4754-ac63-3aad5d54e6c4
X-WR-CALDESC:Dave Rubin and Hannah Karrick play a beautiful duet of guitar 
 and violin. Enjoy their music at dinner or with cocktails.
X-WR-RELCALID:b31ca22e7ec0c0b57b5d17584add808e
X-WR-TIMEZONE:America/Anchorage
BEGIN:VTIMEZONE
TZID:America/Anchorage
BEGIN:STANDARD
TZNAME:AKST
DTSTART:20181104T020000
TZOFFSETFROM:-0800
TZOFFSETTO:-0900
RDATE:20191103T020000
RDATE:20201101T020000
END:STANDARD
BEGIN:DAYLIGHT
TZNAME:AKDT
DTSTART:20190310T020000
TZOFFSETFROM:-0900
TZOFFSETTO:-0800
RDATE:20200308T020000
END:DAYLIGHT
END:VTIMEZONE
BEGIN:VEVENT
UID:d61bb433-d3cc-462f-a7e1-cd392bccb92c
DTSTAMP:20260422T111422Z
DESCRIPTION:Dave Rubin and Hannah Karrick play a beautiful duet of guitar a
 nd violin. Enjoy their music at dinner or with cocktails.
DTSTART;TZID=America/Anchorage:20190907T180000
DTEND;TZID=America/Anchorage:20190907T210000
LOCATION:Salmon Falls Resort
SUMMARY:Dave and Hannah
END:VEVENT
END:VCALENDAR
