BEGIN:VCALENDAR
VERSION:2.0
PRODID:-//www.ketchikanarts.org//NONSGML kigkonsult.se iCalcreator 2.30.10/
 /
CALSCALE:GREGORIAN
METHOD:PUBLISH
UID:d6dc0fdd-7bf3-42ed-b1af-36d9df9b6422
X-WR-CALDESC:The opening reception for Cammie May a fresh and inspiring art
 ist from Craig\, Alaska! Come discover her new painting and drawing combin
 ations\, inspired by the magic of Southeast Alaska\, full of color\, detai
 l\, and wonder.
X-WR-RELCALID:b24773953a7228bd4b18019e6b9d2924
X-WR-TIMEZONE:America/Anchorage
BEGIN:VTIMEZONE
TZID:America/Anchorage
BEGIN:STANDARD
TZNAME:AKST
DTSTART:20181104T020000
TZOFFSETFROM:-0800
TZOFFSETTO:-0900
RDATE:20191103T020000
RDATE:20201101T020000
END:STANDARD
BEGIN:DAYLIGHT
TZNAME:AKDT
DTSTART:20190310T020000
TZOFFSETFROM:-0900
TZOFFSETTO:-0800
RDATE:20200308T020000
END:DAYLIGHT
END:VTIMEZONE
BEGIN:VEVENT
UID:0f8a4903-daa4-43f5-8473-1db82e5d58c1
DTSTAMP:20260422T112146Z
DESCRIPTION:The opening reception for Cammie May a fresh and inspiring arti
 st from Craig\, Alaska! Come discover her new painting and drawing combina
 tions\, inspired by the magic of Southeast Alaska\, full of color\, detail
 \, and wonder.
DTSTART;TZID=America/Anchorage:20190906T170000
DTEND;TZID=America/Anchorage:20190906T190000
LOCATION:Main Street Gallery
SUMMARY:Opening Reception 'Lucidity' - an exhibit by Cammie May at the Main
  Street Gallery
END:VEVENT
END:VCALENDAR
