BEGIN:VCALENDAR
VERSION:2.0
PRODID:-//www.ketchikanarts.org//NONSGML kigkonsult.se iCalcreator 2.30.10/
 /
CALSCALE:GREGORIAN
METHOD:PUBLISH
UID:58ffc3c6-d71e-4b91-aa8b-f9ac5df37360
X-WR-CALDESC:Call 907-225-4792 to sign up for a time slot!\nYou need only a
 ttend one audition\nNo pre-prepared material required\, just come ready to
  read and play!
X-WR-RELCALID:fc6a35a1e26432f7564a1c2463db5cf2
X-WR-TIMEZONE:America/Anchorage
BEGIN:VTIMEZONE
TZID:America/Anchorage
BEGIN:STANDARD
TZNAME:AKST
DTSTART:20181104T020000
TZOFFSETFROM:-0800
TZOFFSETTO:-0900
RDATE:20191103T020000
RDATE:20201101T020000
END:STANDARD
BEGIN:DAYLIGHT
TZNAME:AKDT
DTSTART:20190310T020000
TZOFFSETFROM:-0900
TZOFFSETTO:-0800
RDATE:20200308T020000
END:DAYLIGHT
END:VTIMEZONE
BEGIN:VEVENT
UID:430dfdf5-8283-434d-ae62-8cd2478e16ac
DTSTAMP:20260422T111236Z
DESCRIPTION:Call 907-225-4792 to sign up for a time slot!\nYou need only at
 tend one audition\nNo pre-prepared material required\, just come ready to 
 read and play!
DTSTART;TZID=America/Anchorage:20190905T183000
DTEND;TZID=America/Anchorage:20190905T193000
LOCATION:First City Players Offices
SUMMARY:The Secret Garden Audition
END:VEVENT
END:VCALENDAR
