BEGIN:VCALENDAR
VERSION:2.0
PRODID:-//www.ketchikanarts.org//NONSGML kigkonsult.se iCalcreator 2.30.10/
 /
CALSCALE:GREGORIAN
METHOD:PUBLISH
UID:364146ff-c446-4f97-95ec-972c1c9c7c12
X-WR-CALDESC:Call 907-225-4792 to sign up for a time slot!\nYou need only a
 ttend one audition\nNo pre-prepared material required\, just come ready to
  read and play!
X-WR-RELCALID:96129440f5d216574efeb3bc49d36eb0
X-WR-TIMEZONE:America/Anchorage
BEGIN:VTIMEZONE
TZID:America/Anchorage
BEGIN:STANDARD
TZNAME:AKST
DTSTART:20181104T020000
TZOFFSETFROM:-0800
TZOFFSETTO:-0900
RDATE:20191103T020000
RDATE:20201101T020000
END:STANDARD
BEGIN:DAYLIGHT
TZNAME:AKDT
DTSTART:20190310T020000
TZOFFSETFROM:-0900
TZOFFSETTO:-0800
RDATE:20200308T020000
END:DAYLIGHT
END:VTIMEZONE
BEGIN:VEVENT
UID:8c037b1e-65d5-4367-ad4f-0b3178d0810e
DTSTAMP:20260422T111119Z
DESCRIPTION:Call 907-225-4792 to sign up for a time slot!\nYou need only at
 tend one audition\nNo pre-prepared material required\, just come ready to 
 read and play!
DTSTART;TZID=America/Anchorage:20190905T193000
DTEND;TZID=America/Anchorage:20190905T203000
LOCATION:First City Player Offices
SUMMARY:The Secret Garden Audition
END:VEVENT
END:VCALENDAR
