BEGIN:VCALENDAR
VERSION:2.0
PRODID:-//www.ketchikanarts.org//NONSGML kigkonsult.se iCalcreator 2.30.10/
 /
CALSCALE:GREGORIAN
METHOD:PUBLISH
UID:1e45cffd-a5c6-4163-b9b9-08fe1a69fee4
X-WR-CALDESC:Shelly Hill\, licensed yoga instructor\, takes you through an 
 artful\, mindful\, 1-hour yoga session. in the beautiful ambiance of the M
 ain Street Gallery $5
X-WR-RELCALID:4b7f3cd50b9a10407a42886ccab1216e
X-WR-TIMEZONE:America/Anchorage
BEGIN:VTIMEZONE
TZID:America/Anchorage
BEGIN:STANDARD
TZNAME:AKST
DTSTART:20181104T020000
TZOFFSETFROM:-0800
TZOFFSETTO:-0900
RDATE:20191103T020000
RDATE:20201101T020000
END:STANDARD
BEGIN:DAYLIGHT
TZNAME:AKDT
DTSTART:20190310T020000
TZOFFSETFROM:-0900
TZOFFSETTO:-0800
RDATE:20200308T020000
END:DAYLIGHT
END:VTIMEZONE
BEGIN:VEVENT
UID:6c81b8a6-77de-400a-95fe-74b72c891c6e
DTSTAMP:20260422T111552Z
DESCRIPTION:Shelly Hill\, licensed yoga instructor\, takes you through an a
 rtful\, mindful\, 1-hour yoga session. in the beautiful ambiance of the Ma
 in Street Gallery $5
DTSTART;TZID=America/Anchorage:20190905T173000
DTEND;TZID=America/Anchorage:20190905T183000
LOCATION:Main Street Gallery
SUMMARY:Artful Yoga
END:VEVENT
END:VCALENDAR
