BEGIN:VCALENDAR
VERSION:2.0
PRODID:-//www.ketchikanarts.org//NONSGML kigkonsult.se iCalcreator 2.30.10/
 /
CALSCALE:GREGORIAN
METHOD:PUBLISH
UID:f51f2227-691b-4ce0-aa95-870faf9cec77
X-WR-CALDESC:Call 907-225-4792 to sign up for a time slot!\nYou need only a
 ttend one audition\nNo pre-prepared material required\, just come ready to
  read and play!
X-WR-RELCALID:92bfb98513ad3e6c0fe7dfeede2bca8e
X-WR-TIMEZONE:America/Anchorage
BEGIN:VTIMEZONE
TZID:America/Anchorage
BEGIN:STANDARD
TZNAME:AKST
DTSTART:20181104T020000
TZOFFSETFROM:-0800
TZOFFSETTO:-0900
RDATE:20191103T020000
RDATE:20201101T020000
END:STANDARD
BEGIN:DAYLIGHT
TZNAME:AKDT
DTSTART:20190310T020000
TZOFFSETFROM:-0900
TZOFFSETTO:-0800
RDATE:20200308T020000
END:DAYLIGHT
END:VTIMEZONE
BEGIN:VEVENT
UID:2593d4ba-1e71-49dc-a615-32c07da5cbf8
DTSTAMP:20260422T111303Z
DESCRIPTION:Call 907-225-4792 to sign up for a time slot!\nYou need only at
 tend one audition\nNo pre-prepared material required\, just come ready to 
 read and play!
DTSTART;TZID=America/Anchorage:20190903T183000
DTEND;TZID=America/Anchorage:20190903T193000
LOCATION:First City Players Offices
SUMMARY:The Secret Garden Audition
END:VEVENT
END:VCALENDAR
