BEGIN:VCALENDAR
VERSION:2.0
PRODID:-//www.ketchikanarts.org//NONSGML kigkonsult.se iCalcreator 2.30.10/
 /
CALSCALE:GREGORIAN
METHOD:PUBLISH
UID:5b757f44-c74e-45e0-b7e4-f14c87423a4b
X-WR-CALDESC:Open call to photographers!!!\n\nAlaska Positive encourages ph
 otography as an art form in Alaska. Entries will be juried by nationally r
 enowned photographer David Michael Kennedy.\nOpportunity to participate in
  a traveling exhibit!\n\nOctober 12 deadline for digital submissions!\nNov
 ember 8th deadline for all matted\, exhibit-ready submissions\n
X-WR-RELCALID:94f44cd3daab582798aa57e57c362e5c
X-WR-TIMEZONE:America/Anchorage
BEGIN:VTIMEZONE
TZID:America/Anchorage
BEGIN:STANDARD
TZNAME:AKST
DTSTART:20181104T020000
TZOFFSETFROM:-0800
TZOFFSETTO:-0900
RDATE:20191103T020000
RDATE:20201101T020000
END:STANDARD
BEGIN:DAYLIGHT
TZNAME:AKDT
DTSTART:20190310T020000
TZOFFSETFROM:-0900
TZOFFSETTO:-0800
RDATE:20200308T020000
END:DAYLIGHT
END:VTIMEZONE
BEGIN:VEVENT
UID:620c706c-3747-4625-98f4-8df48e830378
DTSTAMP:20260422T111120Z
DESCRIPTION:Open call to photographers!!!\n\nAlaska Positive encourages pho
 tography as an art form in Alaska. Entries will be juried by nationally re
 nowned photographer David Michael Kennedy.\nOpportunity to participate in 
 a traveling exhibit!\n\nOctober 12 deadline for digital submissions!\nNove
 mber 8th deadline for all matted\, exhibit-ready submissions\n
DTSTART;TZID=America/Anchorage:20190903T090000
DTEND;TZID=America/Anchorage:20190903T100000
LOCATION:Alaska State Museum in Juneau
SUMMARY:Alaska Positive Call-for-Entry
END:VEVENT
END:VCALENDAR
